Workbook

Sheet УЗИ с мат 
F1: УТВЕРЖДАЮ
F2: Директор КУП ДРОЦ "Колос"
F3: ______________ Ю.Л. Титович
F4: " ____ " ___________ 2025
B6: Прейскурант цен (тарифов)
B7: на ПЛАТНЫЕ МЕДИЦИНСКИЕ УСЛУГИ по УЛЬТРАЗВУКОВОЙ и ФУНКЦИОНАЛЬНОЙ ДИАГНОСТИКЕ, оказываемые Коммунальным унитарным предприятием "Детский реабилитационно- оздоровительный центр "Колос"
B8: для граждан Республики Беларусь
B10: № п/п | C10: Наименование оказываемых услуг | D10: Единица измерения | E10: Отпускная цена (тариф) без НДС (руб.) | F10: Стоимость дополнит. материалов с НДС, руб. | G10: Стоимость услуги всего, руб. (к оплате)
B11: 2 | C11: УЛЬТРАЗВУКОВАЯ ДИАГНОСТИКА
B12: 2.1 | C12: ультразвуковое исследование органов брюшной полости:
B13: 2.1.1.1 | C13: печень, желчный пузырь без определения функции | D13: Исследование | E13: 10.34 | F13: 0.66 | G13: =E13+F13 -> 11
B14: 2.1.3.1 | C14: поджелудочная железа | D14: Исследование | E14: 10.34 | F14: 0.66 | G14: =E14+F14 -> 11
B15: 2.1.5.1 | C15: селезенка | D15: Исследование | E15: 6.89 | F15: 0.66 | G15: =E15+F15 -> 7.55
B16: 2.2 | C16: ультразвуковое исследование органов мочеполовой системы:
B17: 2.2.1.1 | C17: Почки и надпочечники | D17: Исследование | E17: 13.79 | F17: 0.66 | G17: =E17+F17 -> 14.45
B18: 2.2.2.1 | C18: Мочевой пузырь | D18: Исследование | E18: 6.89 | F18: 0.66 | G18: =E18+F18 -> 7.55
B19: 2.2.3.1 | C19: Мочевой пузырь с определением остаточной мочи | D19: Исследование | E19: 10.37 | F19: 0.88 | G19: =E19+F19 -> 11.25
B20: 2.2.4.1 | C20: Почки, надпочечники и мочевой пузырь | D20: Исследование | E20: 17.27 | F20: 0.88 | G20: =E20+F20 -> 18.15
B21: 2.2.5.1 | C21: Почки, надпочечники и мочевой пузырь с определением остаточной мочи | D21: Исследование | E21: 20.72 | F21: 0.88 | G21: =E21+F21 -> 21.6
B22: 2.2.6.1 | C22: Предстательная железа с мочевым пузырем и определением остаточной мочи | D22: Исследование | E22: 17.27 | F22: 0.88 | G22: =E22+F22 -> 18.15
B23: 2.2.16.1 | C23: Органы брюшной полости и почки (печень и желчный пузырь без определения функции, поджелудочная железа, селезенка,почки, надпочечники) | D23: Исследование | E23: 34.57 | F23: 0.88 | G23: =E23+F23 -> 35.45
B24: 2.3 | C24: Ультразвуковое исследование других органов:
B25: 2.3.1.1 | C25: Щитовидная железа с лимфатическими поверхностными узлами | D25: Исследование | E25: 13.79 | F25: 0.66 | G25: =E25+F25 -> 14.45
B26: 1. | C26: Выполнение массажных процедур механическим воздействием руками
B27: 1.4 | C27: ='[1]норма времени'!$B$13 -> Массаж воротниковой зоны | D27: ='[2]норма времени'!$C$14 -> процедура | E27: =[1]калькул!$C$26 -> 3600 | F27: =162 -> 162 | G27: =E27+F27 -> 3762
B28: 1.5 | C28: ='[3]норма времени'!$B$13 -> Массаж верхней конечности | D28: ='[2]норма времени'!$C$14 -> процедура | E28: =[3]калькул!$C$26 -> 3600 | F28: =162 -> 162 | G28: =E28+F28 -> 3762
B29: 1.6 | C29: ='[2]норма времени'!$B$14 -> Массаж верхней конечности, надплечья и области лопатки | D29: ='[2]норма времени'!$C$14 -> процедура | E29: =[2]калькул!$C$26 -> 4790 | F29: =162 -> 162 | G29: =E29+F29 -> 4952
B30: 1.7 | C30: Массаж плечевого сустава | D30: ='[2]норма времени'!$C$14 -> процедура | E30: =[4]калькул!$C$26 -> 2400 | F30: =162 -> 162 | G30: =E30+F30 -> 2562
B31: 1.8 | C31: Массаж локтевого сустава | D31: =D30 -> процедура | E31: =[5]калькул!$C$26 -> 2400 | F31: =162 -> 162 | G31: =E31+F31 -> 2562
B32: 1.9 | C32: Масаж лучезапястного сустава | D32: ='[2]норма времени'!$C$14 -> процедура | E32: =[2]калькул!$H$26 -> 2400 | F32: =162 -> 162 | G32: =E32+F32 -> 2562
B33: 1.10 | C33: ='[6]норма времени'!$B$13 -> Массаж кисти и предплечья | D33: =D32 -> процедура | E33: =[6]калькул!$C$26 -> 2400 | F33: =162 -> 162 | G33: =E33+F33 -> 2562
B34: 1.11 | C34: Массаж области грудной клетки | D34: ='[2]норма времени'!$C$14 -> процедура | E34: =[7]калькул!$C$26 -> 5990 | F34: =162 -> 162 | G34: =E34+F34 -> 6152
B35: 1.12 | C35: Массаж спины | D35: =D34 -> процедура | E35: =[8]калькул!$C$26 -> 3600 | F35: =162 -> 162 | G35: =E35+F35 -> 3762
B36: 1.14 | C36: Массаж пояснично- крестцовой области | D36: =D35 -> процедура | E36: =[9]стр.1!$C$26 -> 2400 | F36: =162 -> 162 | G36: =E36+F36 -> 2562
B37: 1.16 | C37: Массаж спины и поясницы | D37: =D36 -> процедура | E37: =[10]калькул!$C$26 -> 4790 | F37: =162 -> 162 | G37: =E37+F37 -> 4952
B38: 1.17 | C38: Массаж шейно- грудного отдела позвоночника | D38: =D37 -> процедура | E38: =[11]калькул!$C$26 -> 4790 | F38: =162 -> 162 | G38: =E38+F38 -> 4952
B39: 1.19 | C39: Массаж области позвоночника | D39: =D38 -> процедура | E39: =[12]калькул!$C$26 -> 5990 | F39: =162 -> 162 | G39: =E39+F39 -> 6152
B40: 1.20 | C40: ='[13]норма времени'!$B$13 -> Массаж нижней конечности | D40: =D39 -> процедура | E40: =[13]калькул!$C$26 -> 3600 | F40: =162 -> 162 | G40: =E40+F40 -> 3762
B41: 1.21 | C41: Массаж нижней конечности и поясницы | D41: =D40 -> процедура | E41: =[14]калькул!$C$26 -> 4790 | F41: =162 -> 162 | G41: =E41+F41 -> 4952
B42: 1.22 | C42: Массаж тазобедренного сустава | D42: =D41 -> процедура | E42: ='[15]УЗИ с мат '!$C$26 -> 2400 | F42: =162 -> 162 | G42: =E42+F42 -> 2562
B43: 1.23 | C43: Массаж коленногосустава | D43: =D27 -> процедура | E43: ='[16]УЗИ ЛОК'!$C$26 -> 2400 | F43: =162 -> 162 | G43: =E43+F43 -> 2562
B44: 1.24 | C44: Массаж голеностопного сустава | D44: =D43 -> процедура | E44: =[17]калькул!$C$26 -> 2400 | F44: =162 -> 162 | G44: =E44+F44 -> 2562
B45: 1.25 | C45: ='[18]норма времени'!$B$13 -> Массаж стопы и голени | D45: =D44 -> процедура | E45: =[18]калькул!$C$26 -> 2400 | F45: =162 -> 162 | G45: =E45+F45 -> 2562
B46: 4 | C46: Подготовка к проведению процедуры массажа | D46: подготови-тельный этап | E46: =[19]калькул!$C$26 -> 1200 | F46: 81 | G46: =E46+F46 -> 1281
B47: 2.3.2.1 | C47: Молочные железы с лимфатическими поверхностными узлами | D47: Исследование | E47: 17.27 | F47: 0.88 | G47: =E47+F47 -> 18.15
B48: 2.3.4.1 | C48: Мягкие ткани | D48: Исследование | E48: 6.89 | F48: 0.66 | G48: =E48+F48 -> 7.55
B49: 2.3.10.1 | C49: Плевральная полость | D49: Исследование | E49: 6.89 | F49: 0.66 | G49: =E49+F49 -> 7.55
B50: 2.3.11.1 | C50: Лимфатические узлы (одна область с обеих сторон) | D50: Исследование | E50: 6.87 | F50: 0.88 | G50: =E50+F50 -> 7.75
B51: 2.4 | C51: Специальные ультразвуковые исследования
B52: 2.4.11 | C52: Эхокардиография (М+В+допплер+цветное картирование+тканевая допплерография) | D52: Исследование | E52: 41.47 | F52: 0.88 | G52: =E52+F52 -> 42.35
B53: 2.4.12 | C53: Ультразвуковая допплерография (УЗДГ) БРАХИОЦЕФАЛЬНЫХ АРТЕРИЙ | D53: Исследование | E53: 20.72 | F53: 0.88 | G53: =E53+F53 -> 21.6
C54: ФУНКЦИОНАЛЬНАЯ ДИАГНОСТИКА
B55: 1 | C55: Электрокардиографические исследования
B56: 1.1 | C56: Электрокардиограмма в 12 отведениях без функциональных проб | D56: Исследование | E56: 3.96 | F56: 1.54 | G56: =E56+F56 -> 5.5
B58: Ведущий экономист | E58: Н.А. Ворон

Sheet УЗИ ЛОК
D1: УТВЕРЖДАЮ
D2: Директор КУП ДРОЦ "Колос"
D3: ______________ Ю.Л. Титович
D4: " ____ " ___________ 2025
B6: Прейскурант цен (тарифов)
B7: на ПЛАТНЫЕ МЕДИЦИНСКИЕ УСЛУГИ по УЛЬТРАЗВУКОВОЙ и ФУНКЦИОНАЛЬНОЙ ДИАГНОСТИКЕ, оказываемые Коммунальным унитарным предприятием "Детский реабилитационно- оздоровительный центр "Колос"
B8: для граждан Республики Беларусь
B10: № п/п | C10: Наименование оказываемых услуг | D10: Единица измерения | E10: Отпускная цена (тариф) без НДС (руб.) | F10: Стоимость дополнит. материалов руб. | G10: Стоимость услуги всего, руб. (к оплате)
B11: 2 | C11: УЛЬТРАЗВУКОВАЯ ДИАГНОСТИКА
B12: 2.1 | C12: ультразвуковое исследование органов брюшной полости:
B13: 2.1.1.1 | C13: печень, желчный пузырь без определения функции | D13: Исследование | E13: 10.34 | F13: 0.66 | G13: =E13+F13 -> 11
B14: 2.1.3.1 | C14: поджелудочная железа | D14: Исследование | E14: 10.34 | F14: 0.66 | G14: =E14+F14 -> 11
B15: 2.1.5.1 | C15: селезенка | D15: Исследование | E15: 6.89 | F15: 0.66 | G15: =E15+F15 -> 7.55
B16: 2.2 | C16: ультразвуковое исследование органов мочеполовой системы:
B17: 2.2.1.1 | C17: Почки и надпочечники | D17: Исследование | E17: 13.79 | F17: 0.66 | G17: =E17+F17 -> 14.45
B18: 2.2.2.1 | C18: Мочевой пузырь | D18: Исследование | E18: 6.89 | F18: 0.66 | G18: =E18+F18 -> 7.55
B19: 2.2.3.1 | C19: Мочевой пузырь с определением остаточной мочи | D19: Исследование | E19: 10.37 | F19: 0.88 | G19: =E19+F19 -> 11.25
B20: 2.2.4.1 | C20: Почки, надпочечники и мочевой пузырь | D20: Исследование | E20: 17.27 | F20: 0.88 | G20: =E20+F20 -> 18.15
B21: 2.2.5.1 | C21: Почки, надпочечники и мочевой пузырь с определением остаточной мочи | D21: Исследование | E21: 20.72 | F21: 0.88 | G21: =E21+F21 -> 21.6
B22: 2.2.6.1 | C22: Предстательная железа с мочевым пузырем и определением остаточной мочи | D22: Исследование | E22: 17.27 | F22: 0.88 | G22: =E22+F22 -> 18.15
B23: 2.2.16.1 | C23: Органы брюшной полости и почки (печень и желчный пузырь без определения функции, поджелудочная железа, селезенка,почки, надпочечники) | D23: Исследование | E23: 34.57 | F23: 0.88 | G23: =E23+F23 -> 35.45
B24: 2.3 | C24: Ультразвуковое исследование других органов:
B25: 2.3.1.1 | C25: Щитовидная железа с лимфатическими поверхностными узлами | D25: Исследование | E25: 13.79 | F25: 0.66 | G25: =E25+F25 -> 14.45
B26: 1. | C26: Выполнение массажных процедур механическим воздействием руками
B27: 1.4 | C27: ='[1]норма времени'!$B$13 -> Массаж воротниковой зоны | D27: ='[2]норма времени'!$C$14 -> процедура | E27: =[1]калькул!$C$26 -> 3600 | F27: =162 -> 162 | G27: =E27+F27 -> 3762
B28: 1.5 | C28: ='[3]норма времени'!$B$13 -> Массаж верхней конечности | D28: ='[2]норма времени'!$C$14 -> процедура | E28: =[3]калькул!$C$26 -> 3600 | F28: =162 -> 162 | G28: =E28+F28 -> 3762
B29: 1.6 | C29: ='[2]норма времени'!$B$14 -> Массаж верхней конечности, надплечья и области лопатки | D29: ='[2]норма времени'!$C$14 -> процедура | E29: =[2]калькул!$C$26 -> 4790 | F29: =162 -> 162 | G29: =E29+F29 -> 4952
B30: 1.7 | C30: Массаж плечевого сустава | D30: ='[2]норма времени'!$C$14 -> процедура | E30: =[4]калькул!$C$26 -> 2400 | F30: =162 -> 162 | G30: =E30+F30 -> 2562
B31: 1.8 | C31: Массаж локтевого сустава | D31: =D30 -> процедура | E31: =[5]калькул!$C$26 -> 2400 | F31: =162 -> 162 | G31: =E31+F31 -> 2562
B32: 1.9 | C32: Масаж лучезапястного сустава | D32: ='[2]норма времени'!$C$14 -> процедура | E32: =[2]калькул!$H$26 -> 2400 | F32: =162 -> 162 | G32: =E32+F32 -> 2562
B33: 1.10 | C33: ='[6]норма времени'!$B$13 -> Массаж кисти и предплечья | D33: =D32 -> процедура | E33: =[6]калькул!$C$26 -> 2400 | F33: =162 -> 162 | G33: =E33+F33 -> 2562
B34: 1.11 | C34: Массаж области грудной клетки | D34: ='[2]норма времени'!$C$14 -> процедура | E34: =[7]калькул!$C$26 -> 5990 | F34: =162 -> 162 | G34: =E34+F34 -> 6152
B35: 1.12 | C35: Массаж спины | D35: =D34 -> процедура | E35: =[8]калькул!$C$26 -> 3600 | F35: =162 -> 162 | G35: =E35+F35 -> 3762
B36: 1.14 | C36: Массаж пояснично- крестцовой области | D36: =D35 -> процедура | E36: =[9]стр.1!$C$26 -> 0 | F36: =162 -> 162 | G36: =E36+F36 -> 162
B37: 1.16 | C37: Массаж спины и поясницы | D37: =D36 -> процедура | E37: =[10]калькул!$C$26 -> 4790 | F37: =162 -> 162 | G37: =E37+F37 -> 4952
B38: 1.17 | C38: Массаж шейно- грудного отдела позвоночника | D38: =D37 -> процедура | E38: =[11]калькул!$C$26 -> 4790 | F38: =162 -> 162 | G38: =E38+F38 -> 4952
B39: 1.19 | C39: Массаж области позвоночника | D39: =D38 -> процедура | E39: =[12]калькул!$C$26 -> 5990 | F39: =162 -> 162 | G39: =E39+F39 -> 6152
B40: 1.20 | C40: ='[13]норма времени'!$B$13 -> Массаж нижней конечности | D40: =D39 -> процедура | E40: =[13]калькул!$C$26 -> 3600 | F40: =162 -> 162 | G40: =E40+F40 -> 3762
B41: 1.21 | C41: Массаж нижней конечности и поясницы | D41: =D40 -> процедура | E41: =[14]калькул!$C$26 -> 4790 | F41: =162 -> 162 | G41: =E41+F41 -> 4952
B42: 1.22 | C42: Массаж тазобедренного сустава | D42: =D41 -> процедура | E42: ='[15]УЗИ с мат '!$C$26 -> Выполнение массажных процедур механическим воздействием руками | F42: =162 -> 162 | G42: =E42+F42 -> #VALUE!
B43: 1.23 | C43: Массаж коленногосустава | D43: =D27 -> процедура | E43: ='[16]УЗИ ЛОК'!$C$26 -> Выполнение массажных процедур механическим воздействием руками | F43: =162 -> 162 | G43: =E43+F43 -> #VALUE!
B44: 1.24 | C44: Массаж голеностопного сустава | D44: =D43 -> процедура | E44: =[17]калькул!$C$26 -> 2400 | F44: =162 -> 162 | G44: =E44+F44 -> 2562
B45: 1.25 | C45: ='[18]норма времени'!$B$13 -> Массаж стопы и голени | D45: =D44 -> процедура | E45: =[18]калькул!$C$26 -> 2400 | F45: =162 -> 162 | G45: =E45+F45 -> 2562
B46: 4 | C46: Подготовка к проведению процедуры массажа | D46: подготови-тельный этап | E46: =[19]калькул!$C$26 -> 1200 | F46: 81 | G46: =E46+F46 -> 1281
B47: 2.3.2.1 | C47: Молочные железы с лимфатическими поверхностными узлами | D47: Исследование | E47: 17.27 | F47: 0.88 | G47: =E47+F47 -> 18.15
B48: 2.3.4.1 | C48: Мягкие ткани | D48: Исследование | E48: 6.89 | F48: 0.66 | G48: =E48+F48 -> 7.55
B49: 2.3.10.1 | C49: Плевральная полость | D49: Исследование | E49: 6.89 | F49: 0.66 | G49: =E49+F49 -> 7.55
B50: 2.3.11.1 | C50: Лимфатические узлы (одна область с обеих сторон) | D50: Исследование | E50: 6.87 | F50: 0.88 | G50: =E50+F50 -> 7.75
B51: 2.4 | C51: Специальные ультразвуковые исследования
B52: 2.4.11 | C52: Эхокардиография (М+В+допплер+цветное картирование+тканевая допплерография) | D52: Исследование | E52: 41.47 | F52: 0.88 | G52: =E52+F52 -> 42.35
B53: 2.4.12 | C53: Ультразвуковая допплерография (УЗДГ) БРАХИОЦЕФАЛЬНЫХ АРТЕРИЙ | D53: Исследование | E53: 20.72 | F53: 0.88 | G53: =E53+F53 -> 21.6
C54: ФУНКЦИОНАЛЬНАЯ ДИАГНОСТИКА
B55: 1 | C55: Электрокардиографические исследования
B56: 1.1 | C56: Электрокардиограмма в 12 отведениях без функциональных проб | D56: Исследование | E56: 3.96 | F56: 1.54 | G56: =E56+F56 -> 5.5
B58: Ведущий экономист | E58: Н.А. Ворон

Sheet УЗИ с мат ИН
F1: УТВЕРЖДАЮ
F2: Директор КУП ДРОЦ "Колос"
F3: ______________ Ю.Л. Титович
F4: " ____ " ___________ 2025
B6: Прейскурант цен (тарифов)
B7: на ПЛАТНЫЕ МЕДИЦИНСКИЕ УСЛУГИ по УЛЬТРАЗВУКОВОЙ и ФУНКЦИОНАЛЬНОЙ ДИАГНОСТИКЕ, оказываемые Коммунальным унитарным предприятием "Детский реабилитационно- оздоровительный центр "Колос"
B8: для граждан иностранных государств
B10: № п/п | C10: Наименование оказываемых услуг | D10: Единица измерения | E10: Отпускная цена (тариф) без НДС (руб.) | F10: Стоимость дополнит. материалов с НДС, руб. | G10: Стоимость услуги всего, руб. (к оплате)
B11: 2 | C11: УЛЬТРАЗВУКОВАЯ ДИАГНОСТИКА
B12: 2.1 | C12: ультразвуковое исследование органов брюшной полости:
B13: 2.1.1.1 | C13: печень, желчный пузырь без определения функции | D13: Исследование | E13: 19.94 | F13: 0.66 | G13: =E13+F13 -> 20.6
B14: 2.1.3.1 | C14: поджелудочная железа | D14: Исследование | E14: 19.94 | F14: 0.66 | G14: =E14+F14 -> 20.6
B15: 2.1.5.1 | C15: селезенка | D15: Исследование | E15: 13.29 | F15: 0.66 | G15: =E15+F15 -> 13.95
B16: 2.2 | C16: ультразвуковое исследование органов мочеполовой системы:
B17: 2.2.1.1 | C17: Почки и надпочечники | D17: Исследование | E17: 26.59 | F17: 0.66 | G17: =E17+F17 -> 27.25
B18: 2.2.2.1 | C18: Мочевой пузырь | D18: Исследование | E18: 13.29 | F18: 0.66 | G18: =E18+F18 -> 13.95
B19: 2.2.3.1 | C19: Мочевой пузырь с определением остаточной мочи | D19: Исследование | E19: 19.92 | F19: 0.88 | G19: =E19+F19 -> 20.8
B20: 2.2.4.1 | C20: Почки, надпочечники и мочевой пузырь | D20: Исследование | E20: 33.22 | F20: 0.88 | G20: =E20+F20 -> 34.1
B21: 2.2.5.1 | C21: Почки, надпочечники и мочевой пузырь с определением остаточной мочи | D21: Исследование | E21: 39.87 | F21: 0.88 | G21: =E21+F21 -> 40.75
B22: 2.2.6.1 | C22: Предстательная железа с мочевым пузырем и определением остаточной мочи | D22: Исследование | E22: 33.22 | F22: 0.88 | G22: =E22+F22 -> 34.1
B23: 2.2.16.1 | C23: Органы брюшной полости и почки (печень и желчный пузырь без определения функции, поджелудочная железа, селезенка,почки, надпочечники) | D23: Исследование | E23: 66.47 | F23: 0.88 | G23: =E23+F23 -> 67.35
B24: 2.3 | C24: Ультразвуковое исследование других органов:
B25: 2.3.1.1 | C25: Щитовидная железа с лимфатическими поверхностными узлами | D25: Исследование | E25: 26.59 | F25: 0.66 | G25: =E25+F25 -> 27.25
B26: 1. | C26: Выполнение массажных процедур механическим воздействием руками
B27: 1.4 | C27: ='[1]норма времени'!$B$13 -> Массаж воротниковой зоны | D27: ='[2]норма времени'!$C$14 -> процедура | E27: =[1]калькул!$C$26 -> 3600 | F27: =162 -> 162 | G27: =E27+F27 -> 3762
B28: 1.5 | C28: ='[3]норма времени'!$B$13 -> Массаж верхней конечности | D28: ='[2]норма времени'!$C$14 -> процедура | E28: =[3]калькул!$C$26 -> 3600 | F28: =162 -> 162 | G28: =E28+F28 -> 3762
B29: 1.6 | C29: ='[2]норма времени'!$B$14 -> Массаж верхней конечности, надплечья и области лопатки | D29: ='[2]норма времени'!$C$14 -> процедура | E29: =[2]калькул!$C$26 -> 4790 | F29: =162 -> 162 | G29: =E29+F29 -> 4952
B30: 1.7 | C30: Массаж плечевого сустава | D30: ='[2]норма времени'!$C$14 -> процедура | E30: =[4]калькул!$C$26 -> 2400 | F30: =162 -> 162 | G30: =E30+F30 -> 2562
B31: 1.8 | C31: Массаж локтевого сустава | D31: =D30 -> процедура | E31: =[5]калькул!$C$26 -> 2400 | F31: =162 -> 162 | G31: =E31+F31 -> 2562
B32: 1.9 | C32: Масаж лучезапястного сустава | D32: ='[2]норма времени'!$C$14 -> процедура | E32: =[2]калькул!$H$26 -> 2400 | F32: =162 -> 162 | G32: =E32+F32 -> 2562
B33: 1.10 | C33: ='[6]норма времени'!$B$13 -> Массаж кисти и предплечья | D33: =D32 -> процедура | E33: =[6]калькул!$C$26 -> 2400 | F33: =162 -> 162 | G33: =E33+F33 -> 2562
B34: 1.11 | C34: Массаж области грудной клетки | D34: ='[2]норма времени'!$C$14 -> процедура | E34: =[7]калькул!$C$26 -> 5990 | F34: =162 -> 162 | G34: =E34+F34 -> 6152
B35: 1.12 | C35: Массаж спины | D35: =D34 -> процедура | E35: =[8]калькул!$C$26 -> 3600 | F35: =162 -> 162 | G35: =E35+F35 -> 3762
B36: 1.14 | C36: Массаж пояснично- крестцовой области | D36: =D35 -> процедура | E36: =[9]стр.1!$C$26 -> 2400 | F36: =162 -> 162 | G36: =E36+F36 -> 2562
B37: 1.16 | C37: Массаж спины и поясницы | D37: =D36 -> процедура | E37: =[10]калькул!$C$26 -> 4790 | F37: =162 -> 162 | G37: =E37+F37 -> 4952
B38: 1.17 | C38: Массаж шейно- грудного отдела позвоночника | D38: =D37 -> процедура | E38: =[11]калькул!$C$26 -> 4790 | F38: =162 -> 162 | G38: =E38+F38 -> 4952
B39: 1.19 | C39: Массаж области позвоночника | D39: =D38 -> процедура | E39: =[12]калькул!$C$26 -> 5990 | F39: =162 -> 162 | G39: =E39+F39 -> 6152
B40: 1.20 | C40: ='[13]норма времени'!$B$13 -> Массаж нижней конечности | D40: =D39 -> процедура | E40: =[13]калькул!$C$26 -> 3600 | F40: =162 -> 162 | G40: =E40+F40 -> 3762
B41: 1.21 | C41: Массаж нижней конечности и поясницы | D41: =D40 -> процедура | E41: =[14]калькул!$C$26 -> 4790 | F41: =162 -> 162 | G41: =E41+F41 -> 4952
B42: 1.22 | C42: Массаж тазобедренного сустава | D42: =D41 -> процедура | E42: ='[15]УЗИ с мат '!$C$26 -> 2400 | F42: =162 -> 162 | G42: =E42+F42 -> 2562
B43: 1.23 | C43: Массаж коленногосустава | D43: =D27 -> процедура | E43: ='[16]УЗИ ЛОК'!$C$26 -> Выполнение массажных процедур механическим воздействием руками | F43: =162 -> 162 | G43: =E43+F43 -> #VALUE!
B44: 1.24 | C44: Массаж голеностопного сустава | D44: =D43 -> процедура | E44: =[17]калькул!$C$26 -> 2400 | F44: =162 -> 162 | G44: =E44+F44 -> 2562
B45: 1.25 | C45: ='[18]норма времени'!$B$13 -> Массаж стопы и голени | D45: =D44 -> процедура | E45: =[18]калькул!$C$26 -> 2400 | F45: =162 -> 162 | G45: =E45+F45 -> 2562
B46: 4 | C46: Подготовка к проведению процедуры массажа | D46: подготови-тельный этап | E46: =[19]калькул!$C$26 -> 1200 | F46: 81 | G46: =E46+F46 -> 1281
B47: 2.3.2.1 | C47: Молочные железы с лимфатическими поверхностными узлами | D47: Исследование | E47: 33.22 | F47: 0.88 | G47: =E47+F47 -> 34.1
B48: 2.3.4.1 | C48: Мягкие ткани | D48: Исследование | E48: 13.29 | F48: 0.66 | G48: =E48+F48 -> 13.95
B49: 2.3.10.1 | C49: Плевральная полость | D49: Исследование | E49: 13.29 | F49: 0.66 | G49: =E49+F49 -> 13.95
B50: 2.3.11.1 | C50: Лимфатические узлы (одна область с обеих сторон) | D50: Исследование | E50: 13.27 | F50: 0.88 | G50: =E50+F50 -> 14.15
B51: 2.4 | C51: Специальные ультразвуковые исследования
B52: 2.4.11 | C52: Эхокардиография (М+В+допплер+цветное картирование+тканевая допплерография) | D52: Исследование | E52: 79.77 | F52: 0.88 | G52: =E52+F52 -> 80.65
B53: 2.4.12 | C53: Ультразвуковая допплерография (УЗДГ) БРАХИОЦЕФАЛЬНЫХ АРТЕРИЙ | D53: Исследование | E53: 39.87 | F53: 0.88 | G53: =E53+F53 -> 40.75
C54: ФУНКЦИОНАЛЬНАЯ ДИАГНОСТИКА
B55: 1 | C55: Электрокардиографические исследования
B56: 1.1 | C56: Электрокардиограмма в 12 отведениях без функциональных проб | D56: Исследование | E56: 7.66 | F56: 1.54 | G56: =E56+F56 -> 9.2
B58: Ведущий экономист | E58: Н.А. Ворон
